2.500000
0.000000
0.000000
-2.500000
622561.250000
4641948.750000
