2.500000
0.000000
0.000000
-2.500000
592911.250000
4789518.750000
