2.500000
0.000000
0.000000
-2.500000
579491.250000
4780068.750000
