2.500000
0.000000
0.000000
-2.500000
606581.250000
4780488.750000
