2.500000
0.000000
0.000000
-2.500000
593161.250000
4771008.750000
