0.250000
0.000000
0.000000
-0.250000
562819.981006
4756559.886963
