0.250000
0.000000
0.000000
-0.250000
562839.981006
4754249.886963
