0.250000
0.000000
0.000000
-0.250000
559519.981006
4744959.886963
