0.250000
0.000000
0.000000
-0.250000
562919.981006
4744999.886963
