0.250000
0.000000
0.000000
-0.250000
576359.981006
4761329.886963
