0.250000
0.000000
0.000000
-0.250000
576409.981006
4756709.886963
