0.250000
0.000000
0.000000
-0.250000
583259.981006
4752159.886963
