0.250000
0.000000
0.000000
-0.250000
586659.981006
4752209.886963
