0.250000
0.000000
0.000000
-0.250000
576489.981006
4749769.886963
