0.250000
0.000000
0.000000
-0.250000
586689.981006
4749889.886963
