0.250000
0.000000
0.000000
-0.250000
590099.981006
4749939.886963
