0.250000
0.000000
0.000000
-0.250000
573109.981006
4747419.886963
