0.250000
0.000000
0.000000
-0.250000
583349.981006
4745219.886963
