0.250000
0.000000
0.000000
-0.250000
593339.981006
4761549.886963
