0.250000
0.000000
0.000000
-0.250000
603529.981006
4761709.886963
