0.250000
0.000000
0.000000
-0.250000
606929.981006
4761759.886963
