0.250000
0.000000
0.000000
-0.250000
617109.981006
4761929.886963
