0.250000
0.000000
0.000000
-0.250000
593399.981006
4756929.886963
