0.250000
0.000000
0.000000
-0.250000
600199.981006
4757029.886963
