0.250000
0.000000
0.000000
-0.250000
610399.981006
4757189.886963
