0.250000
0.000000
0.000000
-0.250000
613829.981006
4754929.886963
