0.250000
0.000000
0.000000
-0.250000
600269.981006
4752399.886963
