0.250000
0.000000
0.000000
-0.250000
617269.981006
4752679.886963
