0.250000
0.000000
0.000000
-0.250000
596929.981006
4747719.886963
