0.250000
0.000000
0.000000
-0.250000
613989.981006
4745679.886963
