0.250000
0.000000
0.000000
-0.250000
634139.981006
4759939.886963
