0.250000
0.000000
0.000000
-0.250000
620589.981006
4757359.886963
