0.250000
0.000000
0.000000
-0.250000
637579.981006
4757689.886963
