0.250000
0.000000
0.000000
-0.250000
630879.981006
4752929.886963
