0.250000
0.000000
0.000000
-0.250000
624119.981006
4750489.886963
