0.250000
0.000000
0.000000
-0.250000
627519.981006
4750549.886963
