0.250000
0.000000
0.000000
-0.250000
624159.981006
4748169.886963
