0.250000
0.000000
0.000000
-0.250000
637769.981006
4748439.886963
