0.250000
0.000000
0.000000
-0.250000
641169.981006
4748509.886963
