0.250000
0.000000
0.000000
-0.250000
651079.981006
4762609.886963
