0.250000
0.000000
0.000000
-0.250000
657919.981006
4760459.886963
