0.250000
0.000000
0.000000
-0.250000
651179.981006
4757989.886963
