0.250000
0.000000
0.000000
-0.250000
654579.981006
4758059.886963
