0.250000
0.000000
0.000000
-0.250000
647829.981006
4755599.886963
