0.250000
0.000000
0.000000
-0.250000
651229.981006
4755669.886963
