0.250000
0.000000
0.000000
-0.250000
647929.981006
4750969.886963
