0.250000
0.000000
0.000000
-0.250000
654729.981006
4751119.886963
