0.250000
0.000000
0.000000
-0.250000
661589.981006
4748969.886963
