0.250000
0.000000
0.000000
-0.250000
668399.981006
4749139.886963
