0.250000
0.000000
0.000000
-0.250000
668459.981006
4746819.886963
